BEGIN:VCALENDAR
VERSION:2.0
PRODID:-//Library Market//iCal Export//EN
BEGIN:VEVENT
SUMMARY:Study Room closed during solar panel installation
UID:28395
DTSTAMP:20260424T032200Z
DTSTART:20260518T040000Z
DTEND:20260522T040000Z
LOCATION:Royal Oak Public Library, 222 E Eleven Mile Rd., Royal Oak, MI 48
 067, United States
ROOM: Study Room B
DESCRIPTION:
URL:https://royaloak.librarycalendar.com/event/study-room-during-solar-pan
 el-installation-28395
END:VEVENT
END:VCALENDAR
