BEGIN:VCALENDAR
VERSION:2.0
PRODID:-//Library Market//iCal Export//EN
BEGIN:VEVENT
SUMMARY:Tech Help at the Senior Center
UID:28334
DTSTAMP:20260423T031300Z
DTSTART:20260520T150000Z
DTEND:20260520T160000Z
LOCATION:Leo Mahany/ Harold Meininger Senior Community Center, 3500 Marais
  Ave, Royal Oak, MI 48073, United States
ROOM: Leo Mahany/ Harold Meininger Senior Community Center
DESCRIPTION:The Royal Oak Public Library will be at the Senior Center to h
 elp people with their technology questions. Bring your phones, tablets, an
 d laptops. Register by calling the Senior Center at 248-246-3900. 
URL:https://royaloak.librarycalendar.com/event/techhelp
END:VEVENT
END:VCALENDAR
